BEGIN:VCALENDAR
VERSION:2.0
PRODID:-//ChamberMaster//Event Calendar 2.0//EN
METHOD:PUBLISH
X-PUBLISHED-TTL:P3D
REFRESH-INTERVAL:P3D
CALSCALE:GREGORIAN
BEGIN:VEVENT
DTSTART:20181004T210000Z
DTEND:20181004T230000Z
X-MICROSOFT-CDO-ALLDAYEVENT:FALSE
SUMMARY:Town of Chapin Drop-in Public Meeting
DESCRIPTION:Join the Town of Chapin to discuss and provide your input to improve walking and biking in Chapin.  Drop-in Public Meeting
X-ALT-DESC;FMTTYPE=text/html:Join the Town of Chapin to discuss and provide your input to improve walking and biking in Chapin.&nbsp\; Drop-in Public Meeting
LOCATION:Chapin Town Hall - 157 NW Columbia Avenue\, Chapin
UID:e.1644.2246
SEQUENCE:3
DTSTAMP:20260422T165401Z
URL:https://business.chapinchamber.com/events/details/town-of-chapin-drop-in-public-meeting-2246
END:VEVENT

END:VCALENDAR
