BEGIN:VCALENDAR
VERSION:2.0
PRODID:-//ChamberMaster//Event Calendar 2.0//EN
METHOD:PUBLISH
X-PUBLISHED-TTL:P3D
REFRESH-INTERVAL:P3D
CALSCALE:GREGORIAN
BEGIN:VEVENT
DTSTART:20181031T220000Z
DTEND:20181101T000000Z
X-MICROSOFT-CDO-ALLDAYEVENT:FALSE
SUMMARY:Trunk or Treat
DESCRIPTION:Join your neigbors at Timberlake Country Club's parking lot for TRUNK or TREAT.  Decorate your trunk\, bring your goodies to share with "trick or treaters" and enjoy the evening.
X-ALT-DESC;FMTTYPE=text/html:Join your neigbors at Timberlake Country Club&#39\;s parking lot for TRUNK or TREAT.&nbsp\; Decorate your trunk\, bring your goodies to share with &quot\;trick or treaters&quot\; and enjoy the evening.&nbsp\;&nbsp\;
LOCATION:Timberlake Country Club - 222 Timberlake Drive\, Chapin
UID:e.1644.2269
SEQUENCE:3
DTSTAMP:20260422T181940Z
URL:https://business.chapinchamber.com/events/details/trunk-or-treat-2269
END:VEVENT

END:VCALENDAR
