BEGIN:VCALENDAR
VERSION:2.0
PRODID:-//ChamberMaster//Event Calendar 2.0//EN
METHOD:PUBLISH
X-PUBLISHED-TTL:P3D
REFRESH-INTERVAL:P3D
CALSCALE:GREGORIAN
BEGIN:VEVENT
DTSTART:20191011T213000Z
DTEND:20191011T233000Z
X-MICROSOFT-CDO-ALLDAYEVENT:FALSE
SUMMARY:Trunk or Treat
DESCRIPTION:Chapin Elementary Schools Fall Festival \n\nParticipation Cost to have a Trunk or Treat Spot or have a 10 x 10 spot for a game or activity is $50.00.  To do both is $75.00\n\nEvent will include:  Silent Auction of class decorated pumpkins - games/activities\, face painting\, food trucks\, inflatables and music.
X-ALT-DESC;FMTTYPE=text/html:Chapin Elementary Schools Fall Festival&nbsp\;<br />\nParticipation Cost to have a Trunk or Treat Spot or have a 10 x 10 spot for a game or activity is $50.00.&nbsp\; To do both is $75.00<br />\nEvent will include:&nbsp\; Silent Auction of class decorated pumpkins - games/activities\, face painting\, food trucks\, inflatables and music.&nbsp\;
LOCATION:Chapin Elementary School - 940 Old Bush River Road\, Chapin
UID:e.1644.2541
SEQUENCE:3
DTSTAMP:20260425T230321Z
URL:https://business.chapinchamber.com/events/details/trunk-or-treat-2541
END:VEVENT

END:VCALENDAR
