BEGIN:VCALENDAR
VERSION:2.0
PRODID:-//ChamberMaster//Event Calendar 2.0//EN
METHOD:PUBLISH
X-PUBLISHED-TTL:P3D
REFRESH-INTERVAL:P3D
CALSCALE:GREGORIAN
BEGIN:VEVENT
DTSTART:20191104T123000Z
DTEND:20191105T020000Z
X-MICROSOFT-CDO-ALLDAYEVENT:FALSE
SUMMARY:Veterans Appreciation Breakfast
DESCRIPTION:The Chapin Ruritan Club is sponsoring\n\na Veterans Appreciation Breakfast to honor all veterans in our community.  Please let them know if you will attend by calling\n\n(803) 223-5395
X-ALT-DESC;FMTTYPE=text/html:<div align="center" style="color: rgb(64\, 63\, 66)\; font-family: Arial\, Verdana\, Helvetica\, sans-serif\; font-size: 14px\; background-color: rgb(255\, 255\, 255)\; text-align: center\;"><span style="color: rgb(0\, 0\, 0)\;">The Chapin Ruritan Club is sponsoring</span></div>\n\n<div align="center" style="color: rgb(64\, 63\, 66)\; font-family: Arial\, Verdana\, Helvetica\, sans-serif\; font-size: 14px\; background-color: rgb(255\, 255\, 255)\; text-align: center\;"><span style="color: rgb(0\, 0\, 0)\;">a Veterans Appreciation Breakfast to honor all veterans in our community.&nbsp\; Please let them know if you will attend by calling<br />\n(803) 223-5395&nbsp\;</span></div>\n
LOCATION:Chapin United Methodist Church - 415 Lexington Avenue\, Chapin
UID:e.1644.3553
SEQUENCE:3
DTSTAMP:20260425T211145Z
URL:https://business.chapinchamber.com/events/details/veterans-appreciation-breakfast-3553
END:VEVENT

END:VCALENDAR
