BEGIN:VCALENDAR
VERSION:2.0
PRODID:-//ChamberMaster//Event Calendar 2.0//EN
METHOD:PUBLISH
X-PUBLISHED-TTL:P3D
REFRESH-INTERVAL:P3D
CALSCALE:GREGORIAN
BEGIN:VEVENT
DTSTART:20181013T100000Z
DTEND:20181013T170000Z
X-MICROSOFT-CDO-ALLDAYEVENT:FALSE
SUMMARY:Walk for Life and Famously Hot Pink Half Marathon\, 5K + 10K
DESCRIPTION:Grab your running shoes and start training for the 2018 Walk for Life and Famously Hot Pink Half Marathon\, 5K + 10K benefitting Palmetto Health Breast Center!
X-ALT-DESC;FMTTYPE=text/html:Grab your running shoes and start training for the 2018 Walk for Life and Famously Hot Pink Half Marathon\, 5K + 10K benefitting Palmetto Health Breast Center!
LOCATION:Spirit Communications Park
UID:e.1644.2195
SEQUENCE:3
DTSTAMP:20260422T165333Z
URL:https://business.chapinchamber.com/events/details/walk-for-life-and-famously-hot-pink-half-marathon-5k-10k-2195
END:VEVENT

END:VCALENDAR
