BEGIN:VCALENDAR
VERSION:2.0
PRODID:-//ChamberMaster//Event Calendar 2.0//EN
METHOD:PUBLISH
X-PUBLISHED-TTL:P3D
REFRESH-INTERVAL:P3D
CALSCALE:GREGORIAN
BEGIN:VEVENT
DTSTART:20190518T123000Z
DTEND:20190518T190000Z
X-MICROSOFT-CDO-ALLDAYEVENT:FALSE
SUMMARY:We Care Sticky Open Golf Tournament
DESCRIPTION:The We Care Sticky Open Golf Tournament provides vital support for Chapin's We Care Center. The format for the tournament is Captain's Choice 4 person teams.  Tournament is limited to 30 teams.  REGISTER HERE
X-ALT-DESC;FMTTYPE=text/html:The We Care Sticky Open Golf Tournament provides vital support for Chapin&#39\;s We Care Center. The format for the tournament is Captain&#39\;s Choice 4 person teams.&nbsp\; Tournament is limited to 30 teams.&nbsp\; <a href="https://chambermaster.blob.core.windows.net/userfiles/UserFiles/chambers/1644/File/WeCare2019StickyOpenregistrationform1.docx"><span style="color:#0000FF\;">REGISTER HERE</span></a>
LOCATION:Timberlake Country Club\, 222 Timberlake Drive Chapin SC 29036
UID:e.1644.2452
SEQUENCE:3
DTSTAMP:20260422T040055Z
URL:https://business.chapinchamber.com/events/details/we-care-sticky-open-golf-tournament-2452
END:VEVENT

END:VCALENDAR
