BEGIN:VCALENDAR
VERSION:2.0
PRODID:-//ChamberMaster//Event Calendar 2.0//EN
METHOD:PUBLISH
X-PUBLISHED-TTL:P3D
REFRESH-INTERVAL:P3D
CALSCALE:GREGORIAN
BEGIN:VEVENT
DTSTART:20181109T123000Z
DTEND:20181109T173000Z
X-MICROSOFT-CDO-ALLDAYEVENT:FALSE
SUMMARY:Wilson Financial Blood Drive
DESCRIPTION:Wilson Financial Blood Drive - Please visit www.redcrossblood.org and enter sponsor code Wilson to schedule your appointment
X-ALT-DESC;FMTTYPE=text/html:Wilson Financial Blood Drive - Please visit www.redcrossblood.org and enter sponsor code Wilson to schedule your appointment
LOCATION:Bloodmobile at 111 Columbia Avenue\, Chapin SC
UID:e.1644.2273
SEQUENCE:3
DTSTAMP:20260422T145041Z
URL:https://business.chapinchamber.com/events/details/wilson-financial-blood-drive-2273
END:VEVENT

END:VCALENDAR
